
BEGIN:VCALENDAR
VERSION:2.0
PRODID:-//Woods Hole Oceanographic Institution - ECPv6.15.14//NONSGML v1.0//EN
CALSCALE:GREGORIAN
METHOD:PUBLISH
X-ORIGINAL-URL:https://www.whoi.edu
X-WR-CALDESC:Events for Woods Hole Oceanographic Institution
REFRESH-INTERVAL;VALUE=DURATION:PT1H
X-Robots-Tag:noindex
X-PUBLISHED-TTL:PT1H
BEGIN:VTIMEZONE
TZID:America/New_York
BEGIN:DAYLIGHT
TZOFFSETFROM:-0500
TZOFFSETTO:-0400
TZNAME:EDT
DTSTART:20250309T070000
END:DAYLIGHT
BEGIN:STANDARD
TZOFFSETFROM:-0400
TZOFFSETTO:-0500
TZNAME:EST
DTSTART:20251102T060000
END:STANDARD
BEGIN:DAYLIGHT
TZOFFSETFROM:-0500
TZOFFSETTO:-0400
TZNAME:EDT
DTSTART:20260308T070000
END:DAYLIGHT
BEGIN:STANDARD
TZOFFSETFROM:-0400
TZOFFSETTO:-0500
TZNAME:EST
DTSTART:20261101T060000
END:STANDARD
BEGIN:DAYLIGHT
TZOFFSETFROM:-0500
TZOFFSETTO:-0400
TZNAME:EDT
DTSTART:20270314T070000
END:DAYLIGHT
BEGIN:STANDARD
TZOFFSETFROM:-0400
TZOFFSETTO:-0500
TZNAME:EST
DTSTART:20271107T060000
END:STANDARD
END:VTIMEZONE
BEGIN:VEVENT
DTSTART;TZID=America/New_York:20260427T000000
DTEND;TZID=America/New_York:20260427T000000
DTSTAMP:20260421T191316
CREATED:20260421T173306Z
LAST-MODIFIED:20260421T173306Z
UID:10012903-1777248000-1777248000@www.whoi.edu
SUMMARY:There will be no seminars today
DESCRIPTION:
URL:https://www.whoi.edu/event/there-will-be-no-seminars-today-4/
END:VEVENT
BEGIN:VEVENT
DTSTART;TZID=America/New_York:20260428T150500
DTEND;TZID=America/New_York:20260428T160000
DTSTAMP:20260421T191316
CREATED:20260421T173535Z
LAST-MODIFIED:20260421T173953Z
UID:10012904-1777388700-1777392000@www.whoi.edu
SUMMARY:Physical Oceanography Department Seminar: Mixing in The Merrimack River Plume: Towards a Partitioning of Lift-Off\, Mid-Field and Frontal Mixing
DESCRIPTION:Daniel MacDonald\, UMass Dartmouth\nSponsored by: Physical Oceanography Department – Clark 507\nThis will be a hybrid seminar held in Clark 507. If you wish to join virtually\, you can access the Zoom link here: https://whoi-edu.zoom.us/j/91962600638?pwd=haJp6a62vn88PW8kKMm7yWhom2pQHs.1\nPasscodeX7Hr$e
URL:https://www.whoi.edu/event/physical-oceanography-department-seminar-mixing-in-the-merrimack-river-plume-towards-a-partitioning-of-lift-off-mid-field-and-frontal-mixing/
LOCATION:Clark 507\, 360 Woods Hole Road\, WOODS HOLE\, MA\, 02543
GEO:41.533332;-70.650084
X-APPLE-STRUCTURED-LOCATION;VALUE=URI;X-ADDRESS=Clark 507 360 Woods Hole Road WOODS HOLE MA 02543;X-APPLE-RADIUS=500;X-TITLE=360 Woods Hole Road:geo:-70.650084,41.533332
END:VEVENT
BEGIN:VEVENT
DTSTART;TZID=America/New_York:20260429T121500
DTEND;TZID=America/New_York:20260429T130000
DTSTAMP:20260421T191316
CREATED:20260421T173838Z
LAST-MODIFIED:20260421T173838Z
UID:10012905-1777464900-1777467600@www.whoi.edu
SUMMARY:AOP&E Department Hybrid Seminar: Oceanographic Impacts of Changes in the Icescape of the Amundsen Sea (Antarctica)
DESCRIPTION:Pierre St-Laurent\, Virginia Institute of Marine Science\nSponsored by: AOP&E Department – Smith Conference Room\nThis will be a hybrid seminar held in Smith Conference Room. If you wish to join virtually\, you can access the Zoom link here: https://whoi-edu.zoom.us/j/95224364638\nMeeting ID: 952 2436 4638\nDial in: 646 558 8656
URL:https://www.whoi.edu/event/aope-department-hybrid-seminar-oceanographic-impacts-of-changes-in-the-icescape-of-the-amundsen-sea-antarctica/
LOCATION:Smith Conference Room\, 86 Water Street\, Woods Hole\, MA\, 02543
GEO:41.524165;-70.671125
X-APPLE-STRUCTURED-LOCATION;VALUE=URI;X-ADDRESS=Smith Conference Room 86 Water Street Woods Hole MA 02543;X-APPLE-RADIUS=500;X-TITLE=86 Water Street:geo:-70.671125,41.524165
END:VEVENT
BEGIN:VEVENT
DTSTART;TZID=America/New_York:20260430T120000
DTEND;TZID=America/New_York:20260430T130000
DTSTAMP:20260421T191316
CREATED:20260421T174424Z
LAST-MODIFIED:20260421T174424Z
UID:10012906-1777550400-1777554000@www.whoi.edu
SUMMARY:Biology Department Seminar: Title to be announced
DESCRIPTION:Clarissa Karthauser\, WHOI\nSponsored by: Biology Department – Redfield Auditorium
URL:https://www.whoi.edu/event/biology-department-seminar-title-to-be-announced-2/
LOCATION:Redfield Auditorium\, 45 Water Street\, Woods Hole\, MA\, 02543
GEO:41.5243327;-70.6695443
X-APPLE-STRUCTURED-LOCATION;VALUE=URI;X-ADDRESS=Redfield Auditorium 45 Water Street Woods Hole MA 02543;X-APPLE-RADIUS=500;X-TITLE=45 Water Street:geo:-70.6695443,41.5243327
END:VEVENT
BEGIN:VEVENT
DTSTART;TZID=America/New_York:20260430T133000
DTEND;TZID=America/New_York:20260430T143000
DTSTAMP:20260421T191316
CREATED:20260421T174714Z
LAST-MODIFIED:20260421T174714Z
UID:10012907-1777555800-1777559400@www.whoi.edu
SUMMARY:Geodynamics Program Seminar Series: Lava Flow Emplacement Dynamics and Hazard Assessment in Hawai‘I
DESCRIPTION:Hannah Dietterich\, Alaska Volcano Observatory\nSponsored by: Academic Programs Office – Clark 507
URL:https://www.whoi.edu/event/geodynamics-program-seminar-series-lava-flow-emplacement-dynamics-and-hazard-assessment-in-hawaii/
LOCATION:Clark 507\, 360 Woods Hole Road\, WOODS HOLE\, MA\, 02543
GEO:41.533332;-70.650084
X-APPLE-STRUCTURED-LOCATION;VALUE=URI;X-ADDRESS=Clark 507 360 Woods Hole Road WOODS HOLE MA 02543;X-APPLE-RADIUS=500;X-TITLE=360 Woods Hole Road:geo:-70.650084,41.533332
END:VEVENT
BEGIN:VEVENT
DTSTART;TZID=America/New_York:20260501T110000
DTEND;TZID=America/New_York:20260501T120000
DTSTAMP:20260421T191316
CREATED:20260421T180433Z
LAST-MODIFIED:20260421T180433Z
UID:10012908-1777633200-1777636800@www.whoi.edu
SUMMARY:G&G Department Hybrid Seminar: Filth\, Sir! Filthy\, Mr. Christian! Still Filthy!’: How the Little Ice Age Influenced the Mutiny Aboard HMS Bounty
DESCRIPTION:Alan Condron\, WHOI\nSponsored by: G&G Department – Clark 237\nThis will be a hybrid seminar held in Clark 237. If you wish to join virtually\, you can access the Zoom link here: https://whoi-edu.zoom.us/j/96361110860?pwd=K6rLa3temVDUsEwK0CZgTegprSLnnn.1\nMeeting ID: 963 6111 0860\nPasscode: =Sg@0z
URL:https://www.whoi.edu/event/gg-department-hybrid-seminar-filth-sir-filthy-mr-christian-still-filthy-how-the-little-ice-age-influenced-the-mutiny-aboard-hms-bounty/
LOCATION:Clark 237\, 360 Woods Hole Road\, WOODS HOLE\, MA\, 02543\, United States
GEO:41.533332;-70.650084
X-APPLE-STRUCTURED-LOCATION;VALUE=URI;X-ADDRESS=Clark 237 360 Woods Hole Road WOODS HOLE MA 02543 United States;X-APPLE-RADIUS=500;X-TITLE=360 Woods Hole Road:geo:-70.650084,41.533332
END:VEVENT
BEGIN:VEVENT
DTSTART;TZID=America/New_York:20260515T093000
DTEND;TZID=America/New_York:20260515T103000
DTSTAMP:20260421T191316
CREATED:20260420T134208Z
LAST-MODIFIED:20260420T134336Z
UID:10012900-1778837400-1778841000@www.whoi.edu
SUMMARY:The Fortress\, The River\, and The Garden: A New Metaphor for Knowledge Symbiosis
DESCRIPTION:The Woods Hole Oceanographic Institution’s Ladd Thorne Indigenous Knowledge Program (LT-IKP) is pleased to invite you to our inaugural LT-IKP Seminar\, featuring Dr. Robin Wall Kimmerer\, acclaimed author\, scientist\, and educator. \nFriday\, May 15\, 2026\n9:30–10:30 AM\nClapp Auditorium\, Lillie Building\nMarine Biological Laboratory\, Woods Hole \nThe Fortress\, The River\, and The Garden: A New Metaphor for Knowledge Symbiosis \nDr. Kimmerer will explore new paradigms for knowledge exchange and ecological understanding\, offering a thoughtful perspective on how different ways of knowing can exist in relationship with one another. \nThis session is intended for the WHOI community and Corporation Members as part of the May Joint Meeting of the Board and Corporation. \nRSVP Here \nDr. Kimmerer will also offer an evening presentation open to the public at 6:00 PM. We kindly ask that you register for only one of the two sessions. Please note that the evening talk takes place in Redfield auditorium and has highly limited seating. \nA limited book signing with Dr. Kimmerer will take place from 4:30–5:30 PM in Redfield Auditorium\, including books for sale from 8 Cousins Bookstore. \nWe hope you will join us for this special and meaningful conversation. \nFor questions\, please contact the following: \nFor general event questions and questions about Organizational Development Programming or the LT-IKP: Natalie Nevarez\, Chief Organizational Development Officer at natalie.nevarez@whoi.edu \nFor event logistics: Jessica Costello\, Director of Events at jessica.costello@whoi.edu
URL:https://www.whoi.edu/event/the-fortress-the-river-and-the-garden-a-new-metaphor-for-knowledge-symbiosis/
LOCATION:Cornelia Clapp Auditorium
END:VEVENT
END:VCALENDAR