
BEGIN:VCALENDAR
VERSION:2.0
PRODID:-//Woods Hole Oceanographic Institution - ECPv6.15.14//NONSGML v1.0//EN
CALSCALE:GREGORIAN
METHOD:PUBLISH
X-WR-CALNAME:Woods Hole Oceanographic Institution
X-ORIGINAL-URL:https://www.whoi.edu
X-WR-CALDESC:Events for Woods Hole Oceanographic Institution
REFRESH-INTERVAL;VALUE=DURATION:PT1H
X-Robots-Tag:noindex
X-PUBLISHED-TTL:PT1H
BEGIN:VTIMEZONE
TZID:America/New_York
BEGIN:DAYLIGHT
TZOFFSETFROM:-0500
TZOFFSETTO:-0400
TZNAME:EDT
DTSTART:20250309T070000
END:DAYLIGHT
BEGIN:STANDARD
TZOFFSETFROM:-0400
TZOFFSETTO:-0500
TZNAME:EST
DTSTART:20251102T060000
END:STANDARD
BEGIN:DAYLIGHT
TZOFFSETFROM:-0500
TZOFFSETTO:-0400
TZNAME:EDT
DTSTART:20260308T070000
END:DAYLIGHT
BEGIN:STANDARD
TZOFFSETFROM:-0400
TZOFFSETTO:-0500
TZNAME:EST
DTSTART:20261101T060000
END:STANDARD
BEGIN:DAYLIGHT
TZOFFSETFROM:-0500
TZOFFSETTO:-0400
TZNAME:EDT
DTSTART:20270314T070000
END:DAYLIGHT
BEGIN:STANDARD
TZOFFSETFROM:-0400
TZOFFSETTO:-0500
TZNAME:EST
DTSTART:20271107T060000
END:STANDARD
END:VTIMEZONE
BEGIN:VEVENT
DTSTART;TZID=America/New_York:20260429T121500
DTEND;TZID=America/New_York:20260429T130000
DTSTAMP:20260421T202238
CREATED:20260421T173838Z
LAST-MODIFIED:20260421T173838Z
UID:10012905-1777464900-1777467600@www.whoi.edu
SUMMARY:AOP&E Department Hybrid Seminar: Oceanographic Impacts of Changes in the Icescape of the Amundsen Sea (Antarctica)
DESCRIPTION:Pierre St-Laurent\, Virginia Institute of Marine Science\nSponsored by: AOP&E Department – Smith Conference Room\nThis will be a hybrid seminar held in Smith Conference Room. If you wish to join virtually\, you can access the Zoom link here: https://whoi-edu.zoom.us/j/95224364638\nMeeting ID: 952 2436 4638\nDial in: 646 558 8656
URL:https://www.whoi.edu/event/aope-department-hybrid-seminar-oceanographic-impacts-of-changes-in-the-icescape-of-the-amundsen-sea-antarctica/
LOCATION:Smith Conference Room\, 86 Water Street\, Woods Hole\, MA\, 02543
GEO:41.524165;-70.671125
X-APPLE-STRUCTURED-LOCATION;VALUE=URI;X-ADDRESS=Smith Conference Room 86 Water Street Woods Hole MA 02543;X-APPLE-RADIUS=500;X-TITLE=86 Water Street:geo:-70.671125,41.524165
END:VEVENT
END:VCALENDAR