
BEGIN:VCALENDAR
VERSION:2.0
PRODID:-//Woods Hole Oceanographic Institution - ECPv6.15.14//NONSGML v1.0//EN
CALSCALE:GREGORIAN
METHOD:PUBLISH
X-WR-CALNAME:Woods Hole Oceanographic Institution
X-ORIGINAL-URL:https://www.whoi.edu
X-WR-CALDESC:Events for Woods Hole Oceanographic Institution
REFRESH-INTERVAL;VALUE=DURATION:PT1H
X-Robots-Tag:noindex
X-PUBLISHED-TTL:PT1H
BEGIN:VTIMEZONE
TZID:America/New_York
BEGIN:DAYLIGHT
TZOFFSETFROM:-0500
TZOFFSETTO:-0400
TZNAME:EDT
DTSTART:20250309T070000
END:DAYLIGHT
BEGIN:STANDARD
TZOFFSETFROM:-0400
TZOFFSETTO:-0500
TZNAME:EST
DTSTART:20251102T060000
END:STANDARD
BEGIN:DAYLIGHT
TZOFFSETFROM:-0500
TZOFFSETTO:-0400
TZNAME:EDT
DTSTART:20260308T070000
END:DAYLIGHT
BEGIN:STANDARD
TZOFFSETFROM:-0400
TZOFFSETTO:-0500
TZNAME:EST
DTSTART:20261101T060000
END:STANDARD
BEGIN:DAYLIGHT
TZOFFSETFROM:-0500
TZOFFSETTO:-0400
TZNAME:EDT
DTSTART:20270314T070000
END:DAYLIGHT
BEGIN:STANDARD
TZOFFSETFROM:-0400
TZOFFSETTO:-0500
TZNAME:EST
DTSTART:20271107T060000
END:STANDARD
END:VTIMEZONE
BEGIN:VEVENT
DTSTART;TZID=America/New_York:20260428T150500
DTEND;TZID=America/New_York:20260428T160000
DTSTAMP:20260421T202237
CREATED:20260421T173535Z
LAST-MODIFIED:20260421T173953Z
UID:10012904-1777388700-1777392000@www.whoi.edu
SUMMARY:Physical Oceanography Department Seminar: Mixing in The Merrimack River Plume: Towards a Partitioning of Lift-Off\, Mid-Field and Frontal Mixing
DESCRIPTION:Daniel MacDonald\, UMass Dartmouth\nSponsored by: Physical Oceanography Department – Clark 507\nThis will be a hybrid seminar held in Clark 507. If you wish to join virtually\, you can access the Zoom link here: https://whoi-edu.zoom.us/j/91962600638?pwd=haJp6a62vn88PW8kKMm7yWhom2pQHs.1\nPasscodeX7Hr$e
URL:https://www.whoi.edu/event/physical-oceanography-department-seminar-mixing-in-the-merrimack-river-plume-towards-a-partitioning-of-lift-off-mid-field-and-frontal-mixing/
LOCATION:Clark 507\, 360 Woods Hole Road\, WOODS HOLE\, MA\, 02543
GEO:41.533332;-70.650084
X-APPLE-STRUCTURED-LOCATION;VALUE=URI;X-ADDRESS=Clark 507 360 Woods Hole Road WOODS HOLE MA 02543;X-APPLE-RADIUS=500;X-TITLE=360 Woods Hole Road:geo:-70.650084,41.533332
END:VEVENT
END:VCALENDAR