
BEGIN:VCALENDAR
VERSION:2.0
PRODID:-//Woods Hole Oceanographic Institution - ECPv6.15.14//NONSGML v1.0//EN
CALSCALE:GREGORIAN
METHOD:PUBLISH
X-WR-CALNAME:Woods Hole Oceanographic Institution
X-ORIGINAL-URL:https://www.whoi.edu
X-WR-CALDESC:Events for Woods Hole Oceanographic Institution
REFRESH-INTERVAL;VALUE=DURATION:PT1H
X-Robots-Tag:noindex
X-PUBLISHED-TTL:PT1H
BEGIN:VTIMEZONE
TZID:America/New_York
BEGIN:DAYLIGHT
TZOFFSETFROM:-0500
TZOFFSETTO:-0400
TZNAME:EDT
DTSTART:20250309T070000
END:DAYLIGHT
BEGIN:STANDARD
TZOFFSETFROM:-0400
TZOFFSETTO:-0500
TZNAME:EST
DTSTART:20251102T060000
END:STANDARD
BEGIN:DAYLIGHT
TZOFFSETFROM:-0500
TZOFFSETTO:-0400
TZNAME:EDT
DTSTART:20260308T070000
END:DAYLIGHT
BEGIN:STANDARD
TZOFFSETFROM:-0400
TZOFFSETTO:-0500
TZNAME:EST
DTSTART:20261101T060000
END:STANDARD
BEGIN:DAYLIGHT
TZOFFSETFROM:-0500
TZOFFSETTO:-0400
TZNAME:EDT
DTSTART:20270314T070000
END:DAYLIGHT
BEGIN:STANDARD
TZOFFSETFROM:-0400
TZOFFSETTO:-0500
TZNAME:EST
DTSTART:20271107T060000
END:STANDARD
END:VTIMEZONE
BEGIN:VEVENT
DTSTART;TZID=America/New_York:20260421T100000
DTEND;TZID=America/New_York:20260421T120000
DTSTAMP:20260421T091808
CREATED:20260407T195921Z
LAST-MODIFIED:20260408T145049Z
UID:10012889-1776765600-1776772800@www.whoi.edu
SUMMARY:“The Right Whale” film showing
DESCRIPTION:“The Right Whale” film showing \nThe Right Whale: Tales of Resilience and Hope is an intimate and visually stunning documentary that follows the dramatic lives of right whales across the globe—from the icy waters of New Zealand and Argentina to the busy coastlines of North America. There will be an introduction by filmmakers Nick and Cheryl Dean\, as well as a Q&A after the film. 45 Water Street\, Woods Hole\, MA | Not appropriate for children under 8 \n 
URL:https://www.whoi.edu/event/april-school-vacation-activities-at-whoi/
LOCATION:Redfield Auditorium\, 45 Water Street\, Woods Hole\, MA\, 02543
GEO:41.5243327;-70.6695443
X-APPLE-STRUCTURED-LOCATION;VALUE=URI;X-ADDRESS=Redfield Auditorium 45 Water Street Woods Hole MA 02543;X-APPLE-RADIUS=500;X-TITLE=45 Water Street:geo:-70.6695443,41.5243327
END:VEVENT
BEGIN:VEVENT
DTSTART;TZID=America/New_York:20260421T121500
DTEND;TZID=America/New_York:20260421T130000
DTSTAMP:20260421T091808
CREATED:20260421T124018Z
LAST-MODIFIED:20260421T124018Z
UID:10012901-1776773700-1776776400@www.whoi.edu
SUMMARY:There will be no MC&G Seminar today
DESCRIPTION:
URL:https://www.whoi.edu/event/there-will-be-no-mcg-seminar-today/
END:VEVENT
BEGIN:VEVENT
DTSTART;TZID=America/New_York:20260421T150500
DTEND;TZID=America/New_York:20260421T160000
DTSTAMP:20260421T091808
CREATED:20260414T183355Z
LAST-MODIFIED:20260414T183355Z
UID:10012896-1776783900-1776787200@www.whoi.edu
SUMMARY:Physical Oceanography Department Seminar: Mixing And Subcritical Flow Of Antarctic Bottom Water in the Equatorial Western Atlantic Ocean
DESCRIPTION:John Whitehead\, WHOI\nSponsored by: Physical Oceanography Department – Clark 507\nThis will be a hybrid seminar held in Clark 507. If you wish to join virtually\, you can access the Zoom link here: https://whoi-edu.zoom.us/j/91962600638?pwd=haJp6a62vn88PW8kKMm7yWhom2pQHs.1\nPasscodeX7Hr$e
URL:https://www.whoi.edu/event/physical-oceanography-department-seminar-mixing-and-subcritical-flow-of-antarctic-bottom-water-in-the-equatorial-western-atlantic-ocean/
LOCATION:Clark 507\, 360 Woods Hole Road\, WOODS HOLE\, MA\, 02543
GEO:41.533332;-70.650084
X-APPLE-STRUCTURED-LOCATION;VALUE=URI;X-ADDRESS=Clark 507 360 Woods Hole Road WOODS HOLE MA 02543;X-APPLE-RADIUS=500;X-TITLE=360 Woods Hole Road:geo:-70.650084,41.533332
END:VEVENT
END:VCALENDAR